BEGIN:VCALENDAR
VERSION:2.0
PRODID:-//O Jardin des Arts et de Soi - ECPv6.15.20//NONSGML v1.0//EN
CALSCALE:GREGORIAN
METHOD:PUBLISH
X-ORIGINAL-URL:https://ojardindesartsetdesoi.org
X-WR-CALDESC:Évènements pour O Jardin des Arts et de Soi
REFRESH-INTERVAL;VALUE=DURATION:PT1H
X-Robots-Tag:noindex
X-PUBLISHED-TTL:PT1H
BEGIN:VTIMEZONE
TZID:UTC
BEGIN:STANDARD
TZOFFSETFROM:+0000
TZOFFSETTO:+0000
TZNAME:UTC
DTSTART:20220101T000000
END:STANDARD
END:VTIMEZONE
BEGIN:VEVENT
DTSTART;TZID=UTC:20241013T093000
DTEND;TZID=UTC:20241013T120000
DTSTAMP:20260423T104034
CREATED:20240828T151753Z
LAST-MODIFIED:20240831T083909Z
UID:677-1728811800-1728820800@ojardindesartsetdesoi.org
SUMMARY:Debut Formation Energie Interne -Oct
DESCRIPTION:1er atelier du module 1  Notion d’énergie interne (comprenant 4 ateliers mensuels):\nà l’issue du module vous aurez développé votre conscience corporelle\, vous serez capable de mobiliser votre énergie interne\, dans votre quotidien (posture au travail\, activités physiques)\,\nvous aurez découvert des gestes simples pour gagner en souplesse et mobilité\, réduire votre fatigue physique et psychique\, apaiser le mental et dénouer les tensions. \ninformations et inscriptions \ntarif module 1: 100 € \nvous pouvez suivre cet atelier à l’unité (30€) \n 
URL:https://ojardindesartsetdesoi.org/event/atelier-energie-interne/
LOCATION:Allevard
CATEGORIES:TaiChi XPEO
ATTACH;FMTTYPE=image/jpeg:https://ojardindesartsetdesoi.org/wp-content/uploads/2023/08/cropped-taichi-autrans-scaled-1.jpg
END:VEVENT
BEGIN:VEVENT
DTSTART;TZID=UTC:20240602T133000
DTEND;TZID=UTC:20240602T163000
DTSTAMP:20260423T104034
CREATED:20240417T180855Z
LAST-MODIFIED:20240831T081555Z
UID:628-1717335000-1717345800@ojardindesartsetdesoi.org
SUMMARY:Balade nature et Herbier
DESCRIPTION:en cette époque la nature est généreuse\, pleine de couleurs et de diversités… notre balade botanique nous permettra d’observer le végétal dans ses moindres détails pour apprendre à le connaitre;vous confectionnerez ainsi un herbier (matériel fourni); Les propriétés et usages (médicinales\, culinaires…) de ces plantes seront également abordées \nVous pouvez compléter cette journée avec la matinée TaiChi XPEO. \nrenseignements et inscriptions par mail ou téléphone. Après inscription nous vous enverrons toutes les informations utiles pour le stage.
URL:https://ojardindesartsetdesoi.org/event/balade-nature-et-herbier/
LOCATION:Allevard
CATEGORIES:Herboristerie Familiale
ATTACH;FMTTYPE=image/jpeg:https://ojardindesartsetdesoi.org/wp-content/uploads/2023/08/cropped-cropped-20230702_113253-scaled-1.jpg
END:VEVENT
BEGIN:VEVENT
DTSTART;TZID=UTC:20240602T093000
DTEND;TZID=UTC:20240602T120000
DTSTAMP:20260423T104034
CREATED:20240417T180236Z
LAST-MODIFIED:20240417T180958Z
UID:624-1717320600-1717329600@ojardindesartsetdesoi.org
SUMMARY:Tai Chi XPEO Juin
DESCRIPTION:nous pratiquerons les exercices de YiGong et les exercices Taoistes afin de dynamiser notre corps et activer l’énergie vitale. \nnous développerons le Souffle par le mouvement en conscience\, les principes s’appliquent à nos gestes du quotidien et activités sportives. \n\naucun pré-requis pour cette pratique\nVous pouvez compléter ce stage en participant à l’après-midi Herboristerie Familiale.\n\nrenseignements et inscriptions par mail ou téléphone. Après inscription nous vous enverrons toutes les informations utiles pour le stage.
URL:https://ojardindesartsetdesoi.org/event/tai-chi-xpeo-juin/
LOCATION:Allevard
CATEGORIES:TaiChi XPEO
ATTACH;FMTTYPE=image/jpeg:https://ojardindesartsetdesoi.org/wp-content/uploads/2024/04/woman-570883_1280.jpg
END:VEVENT
BEGIN:VEVENT
DTSTART;TZID=UTC:20240505T133000
DTEND;TZID=UTC:20240505T163000
DTSTAMP:20260423T104034
CREATED:20240417T175408Z
LAST-MODIFIED:20240417T175804Z
UID:616-1714915800-1714926600@ojardindesartsetdesoi.org
SUMMARY:Macérats huileux
DESCRIPTION:notre balade botanique nous fera découvrir ou redécouvrir les plantes et leurs vertus: comment les identifier pour les cueillir et les utiliser en toute sécurité.  A vos loupes et carnet.. \nL’atelier d’herboriste qui suivra abordera les macérâts huileux: le techniques de préparations\, les utilisations; puis vous préparerez pas à pas votre macérât. \nVous pouvez compléter cette journée avec la matinée TaiChi XPEO. \nrenseignements et inscriptions par mail ou téléphone. Après inscription nous vous enverrons toutes les informations utiles pour le stage.
URL:https://ojardindesartsetdesoi.org/event/macerats_huileux/
LOCATION:Allevard
CATEGORIES:Herboristerie Familiale
ATTACH;FMTTYPE=image/jpeg:https://ojardindesartsetdesoi.org/wp-content/uploads/2024/04/johns-wort-6025252_1920.jpg
END:VEVENT
BEGIN:VEVENT
DTSTART;TZID=UTC:20240505T093000
DTEND;TZID=UTC:20240505T120000
DTSTAMP:20260423T104034
CREATED:20240417T174752Z
LAST-MODIFIED:20240417T175832Z
UID:612-1714901400-1714910400@ojardindesartsetdesoi.org
SUMMARY:Tai Chi XPEO Energie de l'été
DESCRIPTION:nous pratiquerons les exercices de YiGong et les exercices Taoistes afin de dynamiser notre corps et activer l’énergie vitale. \nnous développerons le Souffle par le mouvement en conscience\, et les principes s’appliquent à nos gestes du quotidien et activités sportives. \n\naucun pré-requis pour cette pratique\nVous pouvez compléter ce stage en participant à l’après-midi Herboristerie Familiale.\n\nrenseignements et inscriptions par mail ou téléphone. Après inscription nous vous enverrons toutes les informations utiles pour le stage.
URL:https://ojardindesartsetdesoi.org/event/energie-de-lete/
LOCATION:Allevard
CATEGORIES:TaiChi XPEO
ATTACH;FMTTYPE=image/jpeg:https://ojardindesartsetdesoi.org/wp-content/uploads/2024/04/young-woman-2622732_1920.jpg
END:VEVENT
BEGIN:VEVENT
DTSTART;TZID=UTC:20240407T133000
DTEND;TZID=UTC:20240407T170000
DTSTAMP:20260423T104034
CREATED:20240121T173400Z
LAST-MODIFIED:20240121T173400Z
UID:605-1712496600-1712509200@ojardindesartsetdesoi.org
SUMMARY:les jeunes pousses
DESCRIPTION:Nous irons à la rencontre des jeunes pousses du printemps: le végétal est généreux à la sortie de l’hiver\, avec de jeunes plants tendres qui pourront être intégrés à notre assiette \, ou transformés pour un usage médicinal. A vos loupes et carnet.. \nVous pouvez compléter cette journée avec la matinée TaiChi XPEO. \nRenseignements et inscriptions par téléphone ou email. Après inscription vous recevrez toutes les informations utiles pour le stage.
URL:https://ojardindesartsetdesoi.org/event/les-jeunes-pousses/
LOCATION:Allevard
CATEGORIES:Herboristerie Familiale
ATTACH;FMTTYPE=image/jpeg:https://ojardindesartsetdesoi.org/wp-content/uploads/2024/01/20240121_182747-scaled.jpg
END:VEVENT
BEGIN:VEVENT
DTSTART;TZID=UTC:20240407T093000
DTEND;TZID=UTC:20240407T120000
DTSTAMP:20260423T104034
CREATED:20231105T161914Z
LAST-MODIFIED:20240121T173902Z
UID:592-1712482200-1712491200@ojardindesartsetdesoi.org
SUMMARY:Tai Chi XPEO le printemps
DESCRIPTION:nous pratiquerons les exercices de YiGong et les exercices Taoistes afin de dynamiser notre corps et activer l’énergie vitale. \nnous terminerons la séance par des automassages adaptés à la saison printanière \n\naucun pré-requis pour cette pratique\nVous pouvez compléter ce stage en participant à l’après-midi Herboristerie Familiale.\n\nrenseignements et inscriptions par mail ou téléphone. Après inscription nous vous enverrons toutes les informations utiles pour le stage.
URL:https://ojardindesartsetdesoi.org/event/tai-chi-xpeo-le-printemps/
LOCATION:Allevard
CATEGORIES:TaiChi XPEO
ATTACH;FMTTYPE=image/jpeg:https://ojardindesartsetdesoi.org/wp-content/uploads/2023/11/woman-865021_1920.jpg
END:VEVENT
BEGIN:VEVENT
DTSTART;TZID=UTC:20240310T133000
DTEND;TZID=UTC:20240310T170000
DTSTAMP:20260423T104034
CREATED:20240121T171546Z
LAST-MODIFIED:20240121T171546Z
UID:602-1710077400-1710090000@ojardindesartsetdesoi.org
SUMMARY:Les bourgeons au printemps: gémmothérapie
DESCRIPTION:l’éveil de la Nature au printemps nous invite à observer ces magnifiques bourgeons! \nAu programme de cet atelier pour vous familiariser avec la gemmothérapie: sortie botanique\, reconnaissance de bourgeons\, cueillette et préparation d’un macérât. \nVous pouvez compléter cette journée avec la matinée TaiChi XPEO. \nRenseignements et inscriptions par téléphone ou email. Après inscription vous recevrez toutes les informations utiles pour le stage.
URL:https://ojardindesartsetdesoi.org/event/les-bourgeons-au-printemps-gemmotherapie/
LOCATION:Allevard
CATEGORIES:Herboristerie Familiale
ATTACH;FMTTYPE=image/jpeg:https://ojardindesartsetdesoi.org/wp-content/uploads/2024/01/hazel-7035384_1920.jpg
END:VEVENT
BEGIN:VEVENT
DTSTART;TZID=UTC:20240310T093000
DTEND;TZID=UTC:20240310T120000
DTSTAMP:20260423T104034
CREATED:20231105T154857Z
LAST-MODIFIED:20240121T173810Z
UID:588-1710063000-1710072000@ojardindesartsetdesoi.org
SUMMARY:Tai Chi XPEO Eveil printanier
DESCRIPTION:nous pratiquerons les exercices de YiGong et les exercices Taoistes afin de dynamiser notre corps et activer l’énergie vitale. \nnous terminerons la séance par des automassages adaptés à l’eveil printanier \n\naucun pré-requis pour cette pratique\nVous pouvez compléter ce stage en participant à l’après-midi Herboristerie Familiale.\n\nrenseignements et inscriptions par mail ou téléphone. Après inscription nous vous enverrons toutes les informations utiles pour le stage.
URL:https://ojardindesartsetdesoi.org/event/tai-chi-xpeo-eveil-printanier/
LOCATION:Allevard
CATEGORIES:TaiChi XPEO
ATTACH;FMTTYPE=image/jpeg:https://ojardindesartsetdesoi.org/wp-content/uploads/2023/11/morgan-sessions-TS2UKluECVE-unsplash-scaled.jpg
END:VEVENT
BEGIN:VEVENT
DTSTART;TZID=UTC:20240211T133000
DTEND;TZID=UTC:20240211T170000
DTSTAMP:20260423T104034
CREATED:20240121T170539Z
LAST-MODIFIED:20240121T171736Z
UID:596-1707658200-1707670800@ojardindesartsetdesoi.org
SUMMARY:Peau et Phytothérapie
DESCRIPTION:au travers d’études de cas sur les problèmes courants de peau (rougeurs\, acné\, eczéma\, démangeaisons…) nous mettrons en avant les plantes clés du système cutané\, comment les utiliser et sous quelles formes. \n\nAtelier pratique: une crème de soin pour toute la famille (Cold  cream)\n\nVous pouvez compléter cette journée avec la matinée TaiChi XPEO. \nRenseignements et inscriptions par téléphone ou email. Après inscription vous recevrez toutes les informations utiles pour le stage.
URL:https://ojardindesartsetdesoi.org/event/peau-et-phytotherapie/
LOCATION:Allevard
CATEGORIES:Herboristerie Familiale
ATTACH;FMTTYPE=image/jpeg:https://ojardindesartsetdesoi.org/wp-content/uploads/2024/01/natural-cosmetics-3397277_1920.jpg
END:VEVENT
BEGIN:VEVENT
DTSTART;TZID=UTC:20240211T093000
DTEND;TZID=UTC:20240211T120000
DTSTAMP:20260423T104034
CREATED:20231105T154152Z
LAST-MODIFIED:20240121T170721Z
UID:584-1707643800-1707652800@ojardindesartsetdesoi.org
SUMMARY:Tai Chi XPEO Février
DESCRIPTION:nous pratiquerons les exercices de YiGong et les exercices Taoistes afin de dynamiser notre corps et activer l’énergie vitale. \nnous terminerons la séance par des automassages adaptés à la fin de l’hiver. \n\naucun pré-requis pour cette pratique\nVous pouvez compléter ce stage en participant à l’après-midi Herboristerie Familiale.\n\nrenseignements et inscriptions par mail ou téléphone. Après inscription nous vous enverrons toutes les informations utiles pour le stage.
URL:https://ojardindesartsetdesoi.org/event/tai-chi-xpeo-fevrier/
LOCATION:Allevard
CATEGORIES:TaiChi XPEO
ATTACH;FMTTYPE=image/jpeg:https://ojardindesartsetdesoi.org/wp-content/uploads/2023/11/tim-gouw-jp2g4xXl5QQ-unsplash-scaled.jpg
END:VEVENT
BEGIN:VEVENT
DTSTART;TZID=UTC:20240114T133000
DTEND;TZID=UTC:20240114T163000
DTSTAMP:20260423T104034
CREATED:20230906T202344Z
LAST-MODIFIED:20230906T202514Z
UID:570-1705239000-1705249800@ojardindesartsetdesoi.org
SUMMARY:les Hydrolats douceur et efficacité
DESCRIPTION:les essences aromatiques des plantes sont puissantes et doivent être utilisées avec précaution: faciles à utiliser\, les hydrolats sont aussi très efficaces pour toute la famille. Dans cet atelier d’initiation nous aborderons les voies galéniques\, les domaines d’application\, et comment les utiliser en toute sécurité. \n\nAtelier pratique: Synergie hivernale mélange d’hydrolats pour soigner les petits maux de l’hiver pour toute la famille.\n\nVous pouvez compléter cette journée avec la matinée TaiChi XPEO. \nRenseignements et inscriptions par téléphone ou email. Après inscription vous recevrez toutes les informations utiles pour le stage.
URL:https://ojardindesartsetdesoi.org/event/les-hydrolats-douceur-et-efficacite/
LOCATION:Allevard
CATEGORIES:Herboristerie Familiale
ATTACH;FMTTYPE=image/jpeg:https://ojardindesartsetdesoi.org/wp-content/uploads/2023/09/basil-906137_1920.jpg
END:VEVENT
BEGIN:VEVENT
DTSTART;TZID=UTC:20240114T093000
DTEND;TZID=UTC:20240114T123000
DTSTAMP:20260423T104034
CREATED:20230906T191904Z
LAST-MODIFIED:20230906T202432Z
UID:556-1705224600-1705235400@ojardindesartsetdesoi.org
SUMMARY:TaiChi XPEO bien commencer l'année
DESCRIPTION:nous pratiquerons les exercices de YiGong et les exercices Taoistes afin de dynamiser notre corps et activer l’énergie vitale. \nnous terminerons la séance par des automassages adaptés à la saison hivernale\, \n\naucun pré-requis pour cette pratique\nVous pouvez compléter ce stage en participant à l’après-midi Herboristerie Familiale.\n\nrenseignements et inscriptions par mail ou téléphone. Après inscription nous vous enverrons toutes les informations utiles pour le stage.
URL:https://ojardindesartsetdesoi.org/event/taichi-xpeo-bien-commencer-lannee/
LOCATION:Allevard
CATEGORIES:TaiChi XPEO
ATTACH;FMTTYPE=image/jpeg:https://ojardindesartsetdesoi.org/wp-content/uploads/2023/09/moss-g5f1c9c19e_1920.jpg
END:VEVENT
BEGIN:VEVENT
DTSTART;TZID=UTC:20231210T133000
DTEND;TZID=UTC:20231210T163000
DTSTAMP:20260423T104034
CREATED:20230906T194131Z
LAST-MODIFIED:20230906T195519Z
UID:559-1702215000-1702225800@ojardindesartsetdesoi.org
SUMMARY:Les épices
DESCRIPTION:pour se réchauffer cet hiver et préserver notre immunité nous découvrirons les usages et bienfaits des épices en cuisine et pour notre santé. \n\nAtelier pratique: recette simplifiée du célèbre Vinaigre des  4 voleurs\n\nVous pouvez compléter cette journée avec la matinée TaiChi XPEO. \nRenseignements et inscriptions par téléphone ou email. Après inscription vous recevrez toutes les informations utiles pour le stage.
URL:https://ojardindesartsetdesoi.org/event/les-epices/
LOCATION:Allevard
CATEGORIES:Herboristerie Familiale
ATTACH;FMTTYPE=image/jpeg:https://ojardindesartsetdesoi.org/wp-content/uploads/2023/09/spices-1914130_1280.jpg
END:VEVENT
BEGIN:VEVENT
DTSTART;TZID=UTC:20231210T093000
DTEND;TZID=UTC:20231210T120000
DTSTAMP:20260423T104034
CREATED:20230906T191647Z
LAST-MODIFIED:20230906T195045Z
UID:554-1702200600-1702209600@ojardindesartsetdesoi.org
SUMMARY:TaiChi XPEO decembre
DESCRIPTION:nous pratiquerons les exercices de YiGong et les exercices Taoistes afin de dynamiser notre corps et activer l’énergie vitale. \nnous terminerons la séance par des automassages adaptés à la saison hivernale \naucun pré-requis pour cette pratique \nVous pouvez compléter ce stage en participant à l’après-midi Herboristerie Familiale. \nrenseignements et inscriptions par mail ou téléphone. Après inscription nous vous enverrons toutes les informations utiles pour le stage.
URL:https://ojardindesartsetdesoi.org/event/taichi-xpeo-decembre/
LOCATION:Allevard
CATEGORIES:TaiChi XPEO
ATTACH;FMTTYPE=image/jpeg:https://ojardindesartsetdesoi.org/wp-content/uploads/2023/09/adryan-ra-kkksZyP6GwA-unsplash-scaled.jpg
END:VEVENT
BEGIN:VEVENT
DTSTART;TZID=UTC:20231112T133000
DTEND;TZID=UTC:20231112T163000
DTSTAMP:20260423T104034
CREATED:20230906T191143Z
LAST-MODIFIED:20231022T172030Z
UID:547-1699795800-1699806600@ojardindesartsetdesoi.org
SUMMARY:Les plantes du sportif
DESCRIPTION:en ce début d’hiver nous aborderons les plantes pour le sport: parce que le mouvement c’est la Vie\, pour que nos activités physiques régulières soient bénéfiques à notre organisme\, nous verrons comment les plantes nous accompagnent dans la préparation et la récupération\, et les règles d’hygiène de vie à adopter. \nAtelier pratique: vous réaliserez une onction de préparation à l’effort avec des huiles essentielles pour le massage \npour ne approche globale nous vous conseillons de compléter cette journée avec la matinée TaiChi XPEO. \nRenseignements et inscriptions par téléphone ou email. Après inscription vous recevrez toutes les informations utiles pour le stage. \n 
URL:https://ojardindesartsetdesoi.org/event/les-plantes-du-sportif/
LOCATION:Allevard
CATEGORIES:Herboristerie Familiale
ATTACH;FMTTYPE=image/jpeg:https://ojardindesartsetdesoi.org/wp-content/uploads/2023/09/essential-oils-2738555-scaled.jpg
END:VEVENT
BEGIN:VEVENT
DTSTART;TZID=UTC:20231112T093000
DTEND;TZID=UTC:20231112T123000
DTSTAMP:20260423T104034
CREATED:20230906T190950Z
LAST-MODIFIED:20230906T195355Z
UID:545-1699781400-1699792200@ojardindesartsetdesoi.org
SUMMARY:TaiChi XPEO Novembre
DESCRIPTION:nous pratiquerons les exercices de YiGong et les exercices Taoistes afin de dynamiser notre corps et activer l’énergie vitale. \nnous terminerons la séance par des automassages adaptés à la saison hivernale \naucun pré-requis pour cette pratique \nVous pouvez compléter ce stage en participant à l’après-midi Herboristerie Familiale. \nrenseignements et inscriptions par mail ou téléphone. Après inscription nous vous enverrons toutes les informations utiles pour le stage.
URL:https://ojardindesartsetdesoi.org/event/taichi-xpeo-novembre/
LOCATION:Allevard
CATEGORIES:TaiChi XPEO
ATTACH;FMTTYPE=image/jpeg:https://ojardindesartsetdesoi.org/wp-content/uploads/2023/09/model-gabee511dd_1920.jpg
END:VEVENT
BEGIN:VEVENT
DTSTART;TZID=UTC:20231015T133000
DTEND;TZID=UTC:20231015T163000
DTSTAMP:20260423T104034
CREATED:20230826T162543Z
LAST-MODIFIED:20230827T153736Z
UID:379-1697376600-1697387400@ojardindesartsetdesoi.org
SUMMARY:les arbres en automne
DESCRIPTION:Nous irons à la rencontre des plantes compagnes lors d’une balade botanique: par l’observation nous apprendrons à décrire les plantes pour mieux les identifier. \nla plante focus du mois est le noisetier ses usages en médicinal et culinaire et ses usages ancestraux \nAtelier pratique: composez votre tisane pour le drainage de l’automne \nVous pouvez compléter cette journée avec la matinée TaiChi XPEO. \nRenseignements et inscriptions par téléphone ou email. Après inscription vous recevrez toutes les informations utiles pour le stage. \n 
URL:https://ojardindesartsetdesoi.org/event/les-arbres-en-automne/
LOCATION:Allevard
CATEGORIES:Herboristerie Familiale
ATTACH;FMTTYPE=image/jpeg:https://ojardindesartsetdesoi.org/wp-content/uploads/2023/08/flowers-276014_1920.jpg
END:VEVENT
BEGIN:VEVENT
DTSTART;TZID=UTC:20231015T093000
DTEND;TZID=UTC:20231015T120000
DTSTAMP:20260423T104034
CREATED:20230906T185436Z
LAST-MODIFIED:20230906T185523Z
UID:539-1697362200-1697371200@ojardindesartsetdesoi.org
SUMMARY:TaiChi XPEO automne
DESCRIPTION:nous pratiquerons les exercices de YiGong et les exercices Taoistes afin de dynamiser notre corps et activer l’énergie vitale. \nnous terminerons la séance par des automassages adaptés à la saison automnale. \naucun pré-requis pour cette pratique \nVous pouvez compléter ce stage en participant à l’après-midi Herboristerie Familiale. \nrenseignements et inscriptions par mail ou téléphone. Après inscription nous vous enverrons toutes les informations utiles pour le stage.
URL:https://ojardindesartsetdesoi.org/event/taichi-xpeo-automne/
CATEGORIES:TaiChi XPEO
ATTACH;FMTTYPE=image/jpeg:https://ojardindesartsetdesoi.org/wp-content/uploads/2023/09/IMG-20230830-WA0000.jpg
END:VEVENT
BEGIN:VEVENT
DTSTART;TZID=UTC:20230917T133000
DTEND;TZID=UTC:20230917T163000
DTSTAMP:20260423T104034
CREATED:20230827T152931Z
LAST-MODIFIED:20230827T152931Z
UID:437-1694957400-1694968200@ojardindesartsetdesoi.org
SUMMARY:L'ortie dans tous ses états
DESCRIPTION:Nous irons à la rencontre des plantes compagnes lors d’une balade botanique: par l’observation nous apprendrons à décrire les plantes pour mieux les identifier. \nla plante focus du mois est l’ortie: ses usages en médicinal et culinaire et ses usages ancestraux. \nAtelier pratique: réalisez un vinaigré d’ortie reminéralisant et tonique pour affronter la rentrée. \nVous pouvez compléter cette journée avec la matinée TaiChi XPEO. \nRenseignements et inscriptions par téléphone ou email. Après inscription vous recevrez toutes les informations utiles pour le stage.
URL:https://ojardindesartsetdesoi.org/event/lortie-dans-tous-ses-etats/
LOCATION:Allevard
CATEGORIES:Herboristerie Familiale
ATTACH;FMTTYPE=image/jpeg:https://ojardindesartsetdesoi.org/wp-content/uploads/2023/08/ortie.jpg
END:VEVENT
BEGIN:VEVENT
DTSTART;TZID=UTC:20230917T093000
DTEND;TZID=UTC:20230917T120000
DTSTAMP:20260423T104034
CREATED:20230826T161648Z
LAST-MODIFIED:20230827T154143Z
UID:381-1694943000-1694952000@ojardindesartsetdesoi.org
SUMMARY:TaiChi XPEO de la rentrée
DESCRIPTION:pour cette reprise en douceur\, nous pratiquerons les exercices de YiGong et les exercices Taoistes afin de dynamiser notre corps et activer l’énergie vitale. \nnous terminerons la séance par des automassages adaptés à la saison automnale. \naucun pré-requis pour cette pratique \nVous pouvez compléter ce stage en participant à l’après-midi Herboristerie Familiale. \nrenseignements et inscriptions par mail ou téléphone. Après inscription nous vous enverrons toutes les informations utiles pour le stage.
URL:https://ojardindesartsetdesoi.org/event/taichi-xpeo-de-la-rentree/
LOCATION:Allevard
CATEGORIES:TaiChi XPEO
ATTACH;FMTTYPE=image/jpeg:https://ojardindesartsetdesoi.org/wp-content/uploads/2023/08/xpeo-103-scaled.jpg
END:VEVENT
END:VCALENDAR