BEGIN:VCALENDAR
VERSION:2.0
PRODID:-//O Jardin des Arts et de Soi - ECPv6.15.20//NONSGML v1.0//EN
CALSCALE:GREGORIAN
METHOD:PUBLISH
X-WR-CALNAME:O Jardin des Arts et de Soi
X-ORIGINAL-URL:https://ojardindesartsetdesoi.org
X-WR-CALDESC:Évènements pour O Jardin des Arts et de Soi
REFRESH-INTERVAL;VALUE=DURATION:PT1H
X-Robots-Tag:noindex
X-PUBLISHED-TTL:PT1H
BEGIN:VTIMEZONE
TZID:UTC
BEGIN:STANDARD
TZOFFSETFROM:+0000
TZOFFSETTO:+0000
TZNAME:UTC
DTSTART:20240101T000000
END:STANDARD
END:VTIMEZONE
BEGIN:VEVENT
DTSTART;TZID=UTC:20250112T093000
DTEND;TZID=UTC:20250112T120000
DTSTAMP:20260426T004756
CREATED:20240828T152440Z
LAST-MODIFIED:20240828T171247Z
UID:686-1736674200-1736683200@ojardindesartsetdesoi.org
SUMMARY:Atelier Energie Interne- Janv
DESCRIPTION:4eme atelier du module 1 (comprenant 4 ateliers mensuels): \nà l’issue du module vous aurez développé votre conscience corporelle\, vous serez capable de mobiliser votre énergie interne\, dans votre quotidien (posture au travail\, activités physiques)\,\nvous aurez découvert des gestes simples pour gagner en souplesse et mobilité\, réduire votre fatigue physique et psychique\, apaiser le mental et dénouer les tensions. \nvous pouvez suivre cet atelier à l’unité \nrenseignements et inscriptions par mail ou téléphone. Après inscription nous vous enverrons toutes les informations utiles pour le stage. \n 
URL:https://ojardindesartsetdesoi.org/event/atelier-energie-janv/
CATEGORIES:TaiChi XPEO
ATTACH;FMTTYPE=image/jpeg:https://ojardindesartsetdesoi.org/wp-content/uploads/2023/08/cropped-taichi-autrans-scaled-1.jpg
END:VEVENT
BEGIN:VEVENT
DTSTART;TZID=UTC:20250112T143000
DTEND;TZID=UTC:20250112T163000
DTSTAMP:20260426T004756
CREATED:20240831T102820Z
LAST-MODIFIED:20240831T102820Z
UID:810-1736692200-1736699400@ojardindesartsetdesoi.org
SUMMARY:Phyto 4 saisons- L'été
DESCRIPTION:Module de formation  la Phytothérapie des 4 Saisons: Atelier Eté\nÀ chaque saison ses maux: vous apprendrez à utiliser les plantes médicinales pour prévenir et soigner des maux saisonniers dans le cadre familial et vous réaliserez une préparation à emporter \nAtelier théorique et pratique (préparation galénique) sur la saison estivale \n\nnotion de physiologie -pathologie du système circulatoire et veineux pour comprendre le rééquilibrage de terrain\,\nles plantes médicinales & leurs usages\nAtelier pratique: vous réaliserez un Baume à emporter\n\nmatériel et support fournis \ncet atelier est inclus dans le Module 1  la Phytothérapie des 4 Saisons comprenant 4 ateliers mensuels (d’octobre 2024  à  Janvier 2025): informations et inscriptions \ntarif du module 120€ \ntarif atelier unitaire: 35€
URL:https://ojardindesartsetdesoi.org/event/phyto-4-saisons-lete/
LOCATION:Allevard
CATEGORIES:Herboristerie Familiale,Phyto 4 saisons
ATTACH;FMTTYPE=image/jpeg:https://ojardindesartsetdesoi.org/wp-content/uploads/2024/08/anelya-okapova-V69kmOyZ3SU-unsplash-scaled.jpg
END:VEVENT
END:VCALENDAR