BEGIN:VCALENDAR
VERSION:2.0
PRODID:-//O Jardin des Arts et de Soi - ECPv6.15.20//NONSGML v1.0//EN
CALSCALE:GREGORIAN
METHOD:PUBLISH
X-WR-CALNAME:O Jardin des Arts et de Soi
X-ORIGINAL-URL:https://ojardindesartsetdesoi.org
X-WR-CALDESC:Évènements pour O Jardin des Arts et de Soi
REFRESH-INTERVAL;VALUE=DURATION:PT1H
X-Robots-Tag:noindex
X-PUBLISHED-TTL:PT1H
BEGIN:VTIMEZONE
TZID:UTC
BEGIN:STANDARD
TZOFFSETFROM:+0000
TZOFFSETTO:+0000
TZNAME:UTC
DTSTART:20230101T000000
END:STANDARD
END:VTIMEZONE
BEGIN:VEVENT
DTSTART;TZID=UTC:20240912T191500
DTEND;TZID=UTC:20240912T203000
DTSTAMP:20260426T023003
CREATED:20240901T172804Z
LAST-MODIFIED:20240901T172804Z
UID:864-1726168500-1726173000@ojardindesartsetdesoi.org
SUMMARY:Initiation gratuite TaiChi pour la rentrée
DESCRIPTION:venez découvrir le Tai Chi Chuan\, art martial basé sur l’énergie interne Qi\, aux  nombreux bienfaits sur le corps et l’esprit \nune séance commence par des exercices de conscience corporelle  (Yi Gong) qui apportent à la fois relâchement et présence ; nous sommes alors pleinement disponibles et à l’écoute de nos ressentis. \ndes exercices Taoistes  développent le Souffle vital Qi et nous préparent à l’enchainement de la Forme du Tai Chi Chuan\, fait de mouvements lents\, ronds et souples d’une grande précision \nNous enseignons le Tai Chi Chuan style Yang originel \, avec la méthode XPEO qui permet d’accéder et de ressentir plus facilement l’énergie interne Qi. \nrenseignements et inscriptions par mail ou téléphone.
URL:https://ojardindesartsetdesoi.org/event/initiation-gratuite-taichi-pour-la-rentree/
LOCATION:Maison des Forges Salle de Gym 3eme étage\, 5 rue Etienne Tallard\, Allevard\, 38580
CATEGORIES:TaiChi XPEO
ATTACH;FMTTYPE=image/jpeg:https://ojardindesartsetdesoi.org/wp-content/uploads/2023/08/cropped-taichi-scaled-1.jpg
END:VEVENT
END:VCALENDAR