BEGIN:VCALENDAR
VERSION:2.0
PRODID:-//O Jardin des Arts et de Soi - ECPv6.15.20//NONSGML v1.0//EN
CALSCALE:GREGORIAN
METHOD:PUBLISH
X-WR-CALNAME:O Jardin des Arts et de Soi
X-ORIGINAL-URL:https://ojardindesartsetdesoi.org
X-WR-CALDESC:Évènements pour O Jardin des Arts et de Soi
REFRESH-INTERVAL;VALUE=DURATION:PT1H
X-Robots-Tag:noindex
X-PUBLISHED-TTL:PT1H
BEGIN:VTIMEZONE
TZID:UTC
BEGIN:STANDARD
TZOFFSETFROM:+0000
TZOFFSETTO:+0000
TZNAME:UTC
DTSTART:20240101T000000
END:STANDARD
END:VTIMEZONE
BEGIN:VEVENT
DTSTART;TZID=UTC:20250406T133000
DTEND;TZID=UTC:20250406T163000
DTSTAMP:20260425T230003
CREATED:20240831T120335Z
LAST-MODIFIED:20240831T120335Z
UID:829-1743946200-1743957000@ojardindesartsetdesoi.org
SUMMARY:Herboristerie Sensorielle 2eme atelier
DESCRIPTION:Module de formation Herboristerie Sensorielle\nSortie terrain : laissez vous guider par vos cinq sens et votre intuition pour aller à la rencontre des plantes: vous mémoriserez ainsi mieux le végétal \nNotion de botanique pour une identification en toute sécurité \nSelon les sorties possibilité de cueillette\, transformation sur le terrain (alcoolature\, macérât glycériné ou huileux…)\, et ‘dégustation’ de plantes préparées par nos soins (tisanes…)\, constitution d’un herbier.\nExemples de thèmes abordés : les jeunes pousses du printemps\, les bourgeons\, les familles botaniques\, les plantes du solstice d’été\, focus sur une plante (ortie\, plantain…) …. \nmatériel  fourni \ncet atelier est inclus dans le Module 2  Herboristerie Sensorielle comprenant 4 ateliers mensuels (de Mars à Juin 2025): informations et inscriptions \ntarif du module 120€ \ntarif atelier unitaire: 35€
URL:https://ojardindesartsetdesoi.org/event/herboristerie-sensorielle-2eme-atelier/
LOCATION:Allevard
CATEGORIES:Herboristerie Familiale,Herboristerie Sensorielle
ATTACH;FMTTYPE=image/jpeg:https://ojardindesartsetdesoi.org/wp-content/uploads/2024/08/leaves-7194981_1280.jpg
END:VEVENT
END:VCALENDAR