BEGIN:VCALENDAR
VERSION:2.0
PRODID:-//O Jardin des Arts et de Soi - ECPv6.15.20//NONSGML v1.0//EN
CALSCALE:GREGORIAN
METHOD:PUBLISH
X-WR-CALNAME:O Jardin des Arts et de Soi
X-ORIGINAL-URL:https://ojardindesartsetdesoi.org
X-WR-CALDESC:Évènements pour O Jardin des Arts et de Soi
REFRESH-INTERVAL;VALUE=DURATION:PT1H
X-Robots-Tag:noindex
X-PUBLISHED-TTL:PT1H
BEGIN:VTIMEZONE
TZID:UTC
BEGIN:STANDARD
TZOFFSETFROM:+0000
TZOFFSETTO:+0000
TZNAME:UTC
DTSTART:20250101T000000
END:STANDARD
END:VTIMEZONE
BEGIN:VEVENT
DTSTART;TZID=UTC:20260222T133000
DTEND;TZID=UTC:20260222T163000
DTSTAMP:20260423T090620
CREATED:20250820T175212Z
LAST-MODIFIED:20250823T165734Z
UID:927-1771767000-1771777800@ojardindesartsetdesoi.org
SUMMARY:Balade du Printemps
DESCRIPTION:Module Balades Nature\nSortie terrain à la rencontre des plantes locales\, critères de reconnaissance et signes de distinction\, usages culinaires et qualités thérapeutiques. \nNotion de botanique et approche sensorielle : se laisser guider par son intuition et ses sens pour mémoriser le végétal. Nous vous prêtons une loupe botanique. \nLa sortie se termine autour d’une boisson végétale et d’un moment convivial de partage  (jeux et quizz) pour ancrer vos découvertes. \nAccessible à tous à partir de 12 ans. \nCet atelier est inclus dans le Module Balades Nature comprenant 3 sorties : informations et fiche d’ inscriptions . \nRenseignements et inscriptions par mail ou téléphone. Après inscription nous vous enverrons toutes les informations utiles pour le stage. \ntarif du module (3 sorties) 80€ \ntarif demi-journée: 30€\, tarif jeunes (12-18ans): 20€
URL:https://ojardindesartsetdesoi.org/event/balade-du-printemps/
LOCATION:Allevard
CATEGORIES:Balade Nature,Herboristerie Familiale
ATTACH;FMTTYPE=image/jpeg:https://ojardindesartsetdesoi.org/wp-content/uploads/2025/08/1000012920-1-scaled.jpg
END:VEVENT
END:VCALENDAR